BEGIN:VCALENDAR
VERSION:2.0
PRODID:-//Plone.org//NONSGML plone.app.event//EN
X-WR-TIMEZONE:Europe/Rome
BEGIN:VEVENT
SUMMARY:Comunicare la Salute
DTSTART;VALUE=DATE-TIME:20161111T083000Z
DTEND;VALUE=DATE-TIME:20161111T103000Z
DTSTAMP;VALUE=DATE-TIME:20260420T125542Z
UID:ddb9d746cf2be99a7ea6d66b1ab177b3@127.0.0.1:8095
CATEGORIES:Tavola rotonda
CREATED;VALUE=DATE-TIME:20161103T142641Z
DESCRIPTION:Workshop per Direttori e Responsabili Comunicazione in ambito 
 socio-sanitario
LAST-MODIFIED;VALUE=DATE-TIME:20170202T084700Z
LOCATION:Milano\, Palazzo Lombardia
URL:https://www.ausl.bologna.it/eventi/archivio/auslevent.2016-11-03.07947
 99796
END:VEVENT
END:VCALENDAR
