BEGIN:VCALENDAR
VERSION:2.0
PRODID:-//Plone.org//NONSGML plone.app.event//EN
X-WR-TIMEZONE:Europe/Rome
BEGIN:VEVENT
SUMMARY:Orientamenti emergenti nella ricerca clinico assistenziale: il val
 ore aggiunto dei metodi misti
DTSTART;VALUE=DATE-TIME:20161206T073000Z
DTEND;VALUE=DATE-TIME:20161206T123000Z
DTSTAMP;VALUE=DATE-TIME:20260420T125506Z
UID:0b6f48468aa677c1d86166921219ea63@127.0.0.1:8095
CATEGORIES:corso
CREATED;VALUE=DATE-TIME:20161102T162314Z
DESCRIPTION:Corso 
LAST-MODIFIED;VALUE=DATE-TIME:20170202T084659Z
LOCATION:Aula Magna Ospedale di Cona - Via Aldo Moro\, 8 ‐ Ferrara
URL:https://www.ausl.bologna.it/eventi/archivio/auslevent.2016-11-02.58290
 48553
END:VEVENT
END:VCALENDAR
