BEGIN:VCALENDAR
VERSION:2.0
PRODID:-//Plone.org//NONSGML plone.app.event//EN
X-WR-TIMEZONE:Europe/Rome
BEGIN:VEVENT
SUMMARY:Le ricadute dei regolamenti REACH e CPL nella grande distribuzione
  e nella vendita al dettaglio
DTSTART;VALUE=DATE-TIME:20161118T080000Z
DTEND;VALUE=DATE-TIME:20161118T123000Z
DTSTAMP;VALUE=DATE-TIME:20260420T113458Z
UID:abcf658b0642e174fa13dea2a5b29e11@127.0.0.1:8095
ATTENDEE;CN="VENGONO RILASCIATI CREDITI FORMATIVI ECM (Educazione Contnua 
 in Medicina) per i profili professionali chimico, biologo, medico, tecnico
  della prevenzione";ROLE=REQ-PARTICIPANT:VENGONO RILASCIATI CREDITI FORMAT
 IVI ECM (Educazione Contnua in Medicina) per i profili professionali chimi
 co, biologo, medico, tecnico della prevenzione
CONTACT:Anita Zambonelli \, a.zambonelli@ausl.bologna.it
CREATED;VALUE=DATE-TIME:20161027T132126Z
LAST-MODIFIED;VALUE=DATE-TIME:20161027T132617Z
LOCATION:Bologna
URL:https://www.ausl.bologna.it/eventi/archivio/auslevent.2016-10-27.88102
 99129
END:VEVENT
END:VCALENDAR
