BEGIN:VCALENDAR
VERSION:2.0
PRODID:-//Plone.org//NONSGML plone.app.event//EN
X-WR-TIMEZONE:Europe/Rome
BEGIN:VEVENT
SUMMARY:Le seconde generazioni tra stili di vita e processi d'integrazione
DTSTART;VALUE=DATE-TIME:20161202T080000Z
DTEND;VALUE=DATE-TIME:20161202T130000Z
DTSTAMP;VALUE=DATE-TIME:20260420T113434Z
UID:78fca1ce8251003fbcd38b7c08044136@127.0.0.1:8095
CATEGORIES:Iniziativa formativa
CREATED;VALUE=DATE-TIME:20161026T153817Z
DESCRIPTION:Iniziativa formativa
LAST-MODIFIED;VALUE=DATE-TIME:20170202T084639Z
LOCATION:Aual Zam 1-2\, Via Zamboni\, 32 - Bologna - Dipartimento di Scien
 ze dell'Educazione "Giovanni Maria Bertin"
URL:https://www.ausl.bologna.it/eventi/archivio/auslevent.2016-10-26.02164
 87022
END:VEVENT
END:VCALENDAR
