BEGIN:VCALENDAR
VERSION:2.0
PRODID:-//Plone.org//NONSGML plone.app.event//EN
X-WR-TIMEZONE:Europe/Rome
BEGIN:VEVENT
SUMMARY:Next stop Crevalcore
DTSTART;VALUE=DATE-TIME:20161022T080000Z
DTEND;VALUE=DATE-TIME:20161022T103000Z
DTSTAMP;VALUE=DATE-TIME:20260422T103536Z
UID:54e4c19e6bfc48cb826f2b78fbfc0870@127.0.0.1:8095
ATTENDEE;CN="Claudio BROGLIA, Luca CREMONINI, Stefania DAL, RIO, Angelo FI
 ORITTI, Pierluigi MASIGNÀ, Luca PEDRETTI, Fausto TREVISANI, Luca VIGNATEL
 LI";ROLE=REQ-PARTICIPANT:Claudio BROGLIA, Luca CREMONINI, Stefania DAL, RI
 O, Angelo FIORITTI, Pierluigi MASIGNÀ, Luca PEDRETTI, Fausto TREVISANI, L
 uca VIGNATELLI
CATEGORIES:Assemblea Pubblica
CREATED;VALUE=DATE-TIME:20161019T083143Z
DESCRIPTION:Assemblea pubblica
LAST-MODIFIED;VALUE=DATE-TIME:20170116T091106Z
LOCATION:Auditorium Primo Maggio\, Via Caduti di via Fani 300\, Crevalcore
URL:https://www.ausl.bologna.it/eventi/archivio/auslevent.2016-10-19.70965
 37112
END:VEVENT
END:VCALENDAR
