BEGIN:VCALENDAR
VERSION:2.0
PRODID:-//Plone.org//NONSGML plone.app.event//EN
X-WR-TIMEZONE:Europe/Rome
BEGIN:VEVENT
SUMMARY:Il Soccorritore sulla Scena del Crimine
DTSTART;VALUE=DATE-TIME:20161210T090000Z
DTEND;VALUE=DATE-TIME:20161210T170000Z
DTSTAMP;VALUE=DATE-TIME:20260420T112110Z
UID:5b114836273219b512c8b541770eb19f@127.0.0.1:8095
CATEGORIES:corso
CREATED;VALUE=DATE-TIME:20161019T083150Z
DESCRIPTION:Corso Intensivo\n
LAST-MODIFIED;VALUE=DATE-TIME:20170202T084620Z
LOCATION:Sede INPEF- Via dei Papareschi\, 11 (Angolo Piazza della Radio) -
  Roma
URL:https://www.ausl.bologna.it/eventi/archivio/auslevent.2016-10-19.15002
 77199
END:VEVENT
END:VCALENDAR
