BEGIN:VCALENDAR
VERSION:2.0
PRODID:-//Plone.org//NONSGML plone.app.event//EN
X-WR-TIMEZONE:Europe/Rome
BEGIN:VEVENT
SUMMARY:Bologna Stroke Grandangolo 
DTSTART;VALUE=DATE-TIME:20161104T073000Z
DTEND;VALUE=DATE-TIME:20161104T163000Z
DTSTAMP;VALUE=DATE-TIME:20260420T125506Z
UID:060266728063d661f5109dc806e83629@127.0.0.1:8095
CATEGORIES:Convegno
CREATED;VALUE=DATE-TIME:20161018T145915Z
DESCRIPTION:VI Edizione
LAST-MODIFIED;VALUE=DATE-TIME:20170116T091106Z
LOCATION:Polo Murri del Policlinico S. Orsola Malpighi\, Via Massarenti\, 
 9 - Bologna
URL:https://www.ausl.bologna.it/eventi/archivio/auslevent.2016-10-18.44882
 88640
END:VEVENT
END:VCALENDAR
