BEGIN:VCALENDAR
VERSION:2.0
PRODID:-//Plone.org//NONSGML plone.app.event//EN
X-WR-TIMEZONE:Europe/Rome
BEGIN:VEVENT
SUMMARY:Next stop Crevalcore
DTSTART;VALUE=DATE-TIME:20161105T080000Z
DTEND;VALUE=DATE-TIME:20161105T160000Z
DTSTAMP;VALUE=DATE-TIME:20260420T125346Z
UID:4c50743f954d111f699589ea5a5cf5dd@127.0.0.1:8095
CATEGORIES:Inaugurazione
CREATED;VALUE=DATE-TIME:20161018T122655Z
DESCRIPTION:Inaugurazione della Casa della Salute delle Terre d'Acqua
LAST-MODIFIED;VALUE=DATE-TIME:20170116T091105Z
LOCATION:Via della Libertà\, 171 - Crevalcore (BO)
URL:https://www.ausl.bologna.it/eventi/archivio/auslevent.2016-10-18.42192
 07725
END:VEVENT
END:VCALENDAR
