BEGIN:VCALENDAR
VERSION:2.0
PRODID:-//Plone.org//NONSGML plone.app.event//EN
X-WR-TIMEZONE:Europe/Rome
BEGIN:VEVENT
SUMMARY:Il femtolaser oggi. Cornea e cataratta
DTSTART;VALUE=DATE-TIME:20161025T160000Z
DTEND;VALUE=DATE-TIME:20161025T203000Z
DTSTAMP;VALUE=DATE-TIME:20260422T103536Z
UID:ebc9ab94ca9fe26bd16e4c78e954f8d5@127.0.0.1:8095
CATEGORIES:corso
CREATED;VALUE=DATE-TIME:20161014T142231Z
LAST-MODIFIED;VALUE=DATE-TIME:20170116T091103Z
LOCATION:Bologna - Ospedale Maggiore 
URL:https://www.ausl.bologna.it/eventi/archivio/auslevent.2016-10-14.51571
 13123
END:VEVENT
END:VCALENDAR
