BEGIN:VCALENDAR
VERSION:2.0
PRODID:-//Plone.org//NONSGML plone.app.event//EN
X-WR-TIMEZONE:Europe/Rome
BEGIN:VEVENT
SUMMARY:Alimentazione\, Oncogeni e Benessere
DTSTART;VALUE=DATE-TIME:20161022T070000Z
DTEND;VALUE=DATE-TIME:20161022T160000Z
DTSTAMP;VALUE=DATE-TIME:20260420T125444Z
UID:7919d6d31a86ad5c5c88698deeee3e24@127.0.0.1:8095
CONTACT:Associazione per la Promozione della Salute e la Riabilitazione On
 cologica “Gli Onconauti”\, 348.4053658\, info@onconauti.it
CREATED;VALUE=DATE-TIME:20161014T092635Z
LAST-MODIFIED;VALUE=DATE-TIME:20161014T093153Z
URL:https://www.ausl.bologna.it/eventi/archivio/auslevent.2016-10-14.33429
 56367
END:VEVENT
END:VCALENDAR
