BEGIN:VCALENDAR
VERSION:2.0
PRODID:-//Plone.org//NONSGML plone.app.event//EN
X-WR-TIMEZONE:Europe/Rome
BEGIN:VEVENT
SUMMARY:LUM\, automazione e innovazione
DTSTART;VALUE=DATE-TIME:20161202T080000Z
DTEND;VALUE=DATE-TIME:20161202T160000Z
DTSTAMP;VALUE=DATE-TIME:20260420T125354Z
UID:e9b4e34fb5753b810c706d0b7fa1a4f1@127.0.0.1:8095
CATEGORIES:Convegno
CONTACT:Patrizia Mimmi\, 051 317 2227\, patrizia.mimmi@ausl.bologna.it
CREATED;VALUE=DATE-TIME:20161013T144042Z
DESCRIPTION:Convegno
LAST-MODIFIED;VALUE=DATE-TIME:20170116T091059Z
LOCATION:Aula Magna\, Ospedale Maggiore - Bologna
URL:https://www.ausl.bologna.it/eventi/archivio/auslevent.2016-10-13.49619
 48283
END:VEVENT
END:VCALENDAR
