BEGIN:VCALENDAR
VERSION:2.0
PRODID:-//Plone.org//NONSGML plone.app.event//EN
X-WR-TIMEZONE:Europe/Rome
BEGIN:VEVENT
SUMMARY:Leadership\, Competenza e Responsabilità in Sanità
DTSTART;VALUE=DATE-TIME:20161012T073000Z
DTEND;VALUE=DATE-TIME:20161014T113000Z
DTSTAMP;VALUE=DATE-TIME:20260420T125447Z
UID:a0f5453e0381976dbd79f2cd01776e14@127.0.0.1:8095
CATEGORIES:congresso
CREATED;VALUE=DATE-TIME:20161011T135036Z
DESCRIPTION:42° Congresso Nazionale ANMDO - Bologna \n
LAST-MODIFIED;VALUE=DATE-TIME:20170116T091058Z
LOCATION:Palazzo dei Congressi - Bologna - Piazza della Costituzione\, 5
URL:https://www.ausl.bologna.it/eventi/archivio/auslevent.2016-10-11.68054
 36605
END:VEVENT
END:VCALENDAR
