BEGIN:VCALENDAR
VERSION:2.0
PRODID:-//Plone.org//NONSGML plone.app.event//EN
X-WR-TIMEZONE:Europe/Rome
BEGIN:VEVENT
SUMMARY:Partecipa al World Café di Crevalcore 
DTSTART;VALUE=DATE-TIME:20161029T080000Z
DTEND;VALUE=DATE-TIME:20161029T110000Z
DTSTAMP;VALUE=DATE-TIME:20260420T125542Z
UID:1a7f32a498e0109bfaaf54a39ea3ea31@127.0.0.1:8095
ATTENDEE;CN="Iscrizioni entro il 24 ottobre, per 100 partecipanti al massi
 mo.";ROLE=REQ-PARTICIPANT:Iscrizioni entro il 24 ottobre, per 100 partecip
 anti al massimo.
CATEGORIES:World Cafè
CONTACT:320 069 5460\, ufficiodipiano@terredacqua.net
CREATED;VALUE=DATE-TIME:20161011T130613Z
DESCRIPTION:Idee e proposte a confronto per costruire salute
LAST-MODIFIED;VALUE=DATE-TIME:20170116T091053Z
LOCATION:Scuola primaria Gaetano Lodi - via 25 Aprile\, 85 - Crevalcore
URL:https://www.ausl.bologna.it/eventi/archivio/auslevent.2016-10-11.58133
 63261
END:VEVENT
END:VCALENDAR
