BEGIN:VCALENDAR
VERSION:2.0
PRODID:-//Plone.org//NONSGML plone.app.event//EN
X-WR-TIMEZONE:Europe/Rome
BEGIN:VEVENT
SUMMARY:La Sanità Sostenibile orientata al Futuro. Competenze e Responsab
 ilità
DTSTART;VALUE=DATE-TIME:20161013T120000Z
DTEND;VALUE=DATE-TIME:20161014T140000Z
DTSTAMP;VALUE=DATE-TIME:20260422T103459Z
UID:d0fe9d07c7c4d06d8e7d36c9410a0190@127.0.0.1:8095
CATEGORIES:congresso
CREATED;VALUE=DATE-TIME:20161011T133712Z
DESCRIPTION:26 th EAHM Congress\n
LAST-MODIFIED;VALUE=DATE-TIME:20170116T091056Z
LOCATION:Palazzo dei Congressi e della Cultura Bologna - Piazza della Cost
 ituzione\, 5
URL:https://www.ausl.bologna.it/eventi/archivio/auslevent.2016-10-11.44972
 28657
END:VEVENT
END:VCALENDAR
