BEGIN:VCALENDAR
VERSION:2.0
PRODID:-//Plone.org//NONSGML plone.app.event//EN
X-WR-TIMEZONE:Europe/Rome
BEGIN:VEVENT
SUMMARY:Viva! 2016
DTSTART;VALUE=DATE-TIME:20161016T080000Z
DTEND;VALUE=DATE-TIME:20161016T110000Z
DTSTAMP;VALUE=DATE-TIME:20260420T125445Z
UID:b90636de3a466c54680549ad578137b7@127.0.0.1:8095
CATEGORIES:Festa
CREATED;VALUE=DATE-TIME:20161011T132841Z
DESCRIPTION:European Restart a Heart Day
LAST-MODIFIED;VALUE=DATE-TIME:20170116T091054Z
LOCATION:Bologna\, Stabat Mater - Piazza Galvani\, 1
URL:https://www.ausl.bologna.it/eventi/archivio/auslevent.2016-10-11.10634
 03018
END:VEVENT
END:VCALENDAR
