BEGIN:VCALENDAR
VERSION:2.0
PRODID:-//Plone.org//NONSGML plone.app.event//EN
X-WR-TIMEZONE:Europe/Rome
BEGIN:VEVENT
SUMMARY:Mio fratello rincorre i dinosauri
DTSTART;VALUE=DATE-TIME:20161013T161500Z
DTEND;VALUE=DATE-TIME:20161013T181500Z
DTSTAMP;VALUE=DATE-TIME:20260420T125447Z
UID:ac243b9ee33ce1962faff72f13f3634a@127.0.0.1:8095
ATTENDEE;CN="Ingresso gratuito";ROLE=REQ-PARTICIPANT:Ingresso gratuito
CATEGORIES:Incontro
CONTACT:051 0923209
CREATED;VALUE=DATE-TIME:20161010T102411Z
DESCRIPTION:In occasione dell’uscita del suo libro\, Giacomo Mazzariol r
 acconta la sua storia e quella di suo fratello Giovanni\, nato con un crom
 osoma in più.\n\n\n
LAST-MODIFIED;VALUE=DATE-TIME:20170202T084636Z
LOCATION:Opificio Golinelli - via Paolo Nanni Costa\, 14\, Bologna
URL:https://www.ausl.bologna.it/eventi/archivio/auslevent.2016-10-10.54413
 94834
END:VEVENT
END:VCALENDAR
