BEGIN:VCALENDAR
VERSION:2.0
PRODID:-//Plone.org//NONSGML plone.app.event//EN
X-WR-TIMEZONE:Europe/Rome
BEGIN:VEVENT
SUMMARY:Il corretto utilizzo dei prodotti disinfettanti negli ambienti des
 tinati alla collettività a tutela della salute pubblica
DTSTART;VALUE=DATE-TIME:20161025T070000Z
DTEND;VALUE=DATE-TIME:20161025T150000Z
DTSTAMP;VALUE=DATE-TIME:20260419T172753Z
UID:a4c1fd457ae774f0a85f4ed5db9ff22a@127.0.0.1:8095
ATTENDEE;CN="È stata richiesta l’attribuzione dei crediti formativi sec
 ondo il sistema ECM regionale per le seguenti professioni: Biologo, Chimic
 o, Medico, Tecnico della Prevenzione.";ROLE=REQ-PARTICIPANT:È stata richi
 esta l’attribuzione dei crediti formativi secondo il sistema ECM regiona
 le per le seguenti professioni: Biologo, Chimico, Medico, Tecnico della Pr
 evenzione.
CATEGORIES:Corso di formazione
CONTACT:Team Operazione Disinfetto Corretto\, tel. 051 4966291\, disinfett
 o.corretto@ausl.bologna.it
CREATED;VALUE=DATE-TIME:20161005T132859Z
LAST-MODIFIED;VALUE=DATE-TIME:20161111T145636Z
LOCATION:Millennhotel - via Boldrini\, 4 - Bologna
URL:https://www.ausl.bologna.it/eventi/archivio/auslevent.2016-10-05.84624
 51029
END:VEVENT
END:VCALENDAR
