BEGIN:VCALENDAR
VERSION:2.0
PRODID:-//Plone.org//NONSGML plone.app.event//EN
X-WR-TIMEZONE:Europe/Rome
BEGIN:VEVENT
SUMMARY:Reazioni avverse a farmaci in Pronto Soccorso
DTSTART;VALUE=DATE-TIME:20161026T120000Z
DTEND;VALUE=DATE-TIME:20161026T160000Z
DTSTAMP;VALUE=DATE-TIME:20260422T120753Z
UID:f266dad72a2832e34b05cb97f4b2f27a@127.0.0.1:8095
CATEGORIES:Corso di formazione
CREATED;VALUE=DATE-TIME:20161005T142120Z
DESCRIPTION:Corso di formazione 
LAST-MODIFIED;VALUE=DATE-TIME:20170116T091107Z
LOCATION:Azienda Ospedaliero-Universitaria di Ferrara - Corso Giovecca\, 2
 03 - Ferrara
URL:https://www.ausl.bologna.it/eventi/archivio/auslevent.2016-10-05.12578
 49652
END:VEVENT
END:VCALENDAR
