BEGIN:VCALENDAR
VERSION:2.0
PRODID:-//Plone.org//NONSGML plone.app.event//EN
X-WR-TIMEZONE:Europe/Rome
BEGIN:VEVENT
SUMMARY:Decennale di Villa Emilia
DTSTART;VALUE=DATE-TIME:20160930T143000Z
DTEND;VALUE=DATE-TIME:20160930T163000Z
DTSTAMP;VALUE=DATE-TIME:20260420T125355Z
UID:be25c143767019e56adcc46ed4d2e309@127.0.0.1:8095
CATEGORIES:Festa
CREATED;VALUE=DATE-TIME:20160929T112321Z
DESCRIPTION:Come cresce un servizio 
LAST-MODIFIED;VALUE=DATE-TIME:20170116T091107Z
LOCATION:Villa Emilia\, via Marzocchi 1/a San Giovanni in Persiceto (BO)
URL:https://www.ausl.bologna.it/eventi/archivio/auslevent.2016-09-29.74689
 79583
END:VEVENT
END:VCALENDAR
