BEGIN:VCALENDAR
VERSION:2.0
PRODID:-//Plone.org//NONSGML plone.app.event//EN
X-WR-TIMEZONE:Europe/Rome
BEGIN:VEVENT
SUMMARY:Bologna’s Health Services – Planning  
DTSTART;VALUE=DATE-TIME:20161011T123000Z
DTEND;VALUE=DATE-TIME:20161012T163000Z
DTSTAMP;VALUE=DATE-TIME:20260420T125504Z
UID:2b6c3bbcf0406935ffef3441429b98da@127.0.0.1:8095
CATEGORIES:Convegno
CREATED;VALUE=DATE-TIME:20160922T142020Z
DESCRIPTION:Convegno 
LAST-MODIFIED;VALUE=DATE-TIME:20170116T091106Z
LOCATION:Sala “Colonne” Servizio Formazione – Via S. Isaia 90 Bologn
 a
URL:https://www.ausl.bologna.it/eventi/archivio/auslevent.2016-09-22.83554
 25254
END:VEVENT
END:VCALENDAR
