BEGIN:VCALENDAR
VERSION:2.0
PRODID:-//Plone.org//NONSGML plone.app.event//EN
X-WR-TIMEZONE:Europe/Rome
BEGIN:VEVENT
SUMMARY:SETTIMANA MONDIALE DELL’ALLATTAMENTO DAL 1 AL 7 OTTOBRE 2016
DTSTART;VALUE=DATE-TIME:20161001T080000Z
DTEND;VALUE=DATE-TIME:20161001T110000Z
DTSTAMP;VALUE=DATE-TIME:20260420T125354Z
UID:8efb9a3ba18a5e74c730c318fec27e30@127.0.0.1:8095
CATEGORIES:Flash mob
CONTACT:051/658 4687
CREATED;VALUE=DATE-TIME:20160919T144831Z
DESCRIPTION:Garantire una vita sana e promuovere il benessere di tutti ad 
 ogni età - FLASH MOB \n
LAST-MODIFIED;VALUE=DATE-TIME:20170116T091102Z
LOCATION:Bologna\, Piazza Nettuno - Casalecchio di Reno\, Casa della Conos
 cenza - San Lazzaro di Savena\, Via Jussi\, 33
URL:https://www.ausl.bologna.it/eventi/archivio/auslevent.2016-09-19.90486
 59665
END:VEVENT
END:VCALENDAR
