BEGIN:VCALENDAR
VERSION:2.0
PRODID:-//Plone.org//NONSGML plone.app.event//EN
X-WR-TIMEZONE:Europe/Rome
BEGIN:VEVENT
SUMMARY:A braccia aperte
DTSTART;VALUE=DATE-TIME:20160925T130000Z
DTEND;VALUE=DATE-TIME:20160925T180000Z
DTSTAMP;VALUE=DATE-TIME:20260420T125353Z
UID:bbf52788caeacc79e325a18516d5592f@127.0.0.1:8095
CATEGORIES:Festa
CONTACT:URP del Distretto Pianura Est\, urp.pianuraest@ausl.bologna.it
CREATED;VALUE=DATE-TIME:20160919T125531Z
DESCRIPTION:Festa per le famiglie e i bambini del Distretto Pianura Est
LAST-MODIFIED;VALUE=DATE-TIME:20161010T121632Z
LOCATION:San Pietro in Casale\, Centro Giovanile Casa della Musica
URL:https://www.ausl.bologna.it/eventi/archivio/auslevent.2016-09-19.22432
 20610
END:VEVENT
END:VCALENDAR
