BEGIN:VCALENDAR
VERSION:2.0
PRODID:-//Plone.org//NONSGML plone.app.event//EN
X-WR-TIMEZONE:Europe/Rome
BEGIN:VEVENT
SUMMARY:Il passato è presente: il viaggio di A.A.A. tra scuola\, radici e
  tempo libero
DTSTART;VALUE=DATE-TIME:20160924T133000Z
DTEND;VALUE=DATE-TIME:20160924T173000Z
DTSTAMP;VALUE=DATE-TIME:20260420T125505Z
UID:dd9ce40a30470c81f816e04811141927@127.0.0.1:8095
CATEGORIES:Giornata
CONTACT:051 596099 \, l.russo@ascinsieme.it
CREATED;VALUE=DATE-TIME:20160919T135848Z
DESCRIPTION:Giornata 
LAST-MODIFIED;VALUE=DATE-TIME:20170116T091101Z
LOCATION:Ca’ la Ghironda Via Leonardo da Vinci\, 19 Ponte Ronca (Zola Pr
 edosa)
URL:https://www.ausl.bologna.it/eventi/archivio/auslevent.2016-09-19.20394
 82192
END:VEVENT
END:VCALENDAR
