BEGIN:VCALENDAR
VERSION:2.0
PRODID:-//Plone.org//NONSGML plone.app.event//EN
X-WR-TIMEZONE:Europe/Rome
BEGIN:VEVENT
SUMMARY:Settimana Mondiale dell'Allattamento dal 1 al 7 ottobre 2016
DTSTART;VALUE=DATE-TIME:20161006T150000Z
DTEND;VALUE=DATE-TIME:20161006T170000Z
DTSTAMP;VALUE=DATE-TIME:20260420T125507Z
UID:a85ed09da7292d05381be76a07e181a1@127.0.0.1:8095
CATEGORIES:Incontro pubblico
CONTACT:051/658 4687
CREATED;VALUE=DATE-TIME:20160919T150232Z
DESCRIPTION:Garantire una vita sana e promuovere il benessere di tutti ad 
 ogni età - \nAllattamento: una chiave per lo sviluppo sostenibile 
LAST-MODIFIED;VALUE=DATE-TIME:20170116T091104Z
LOCATION:Bologna - Aula Magna dell’Ospedale Maggiore
URL:https://www.ausl.bologna.it/eventi/archivio/auslevent.2016-09-19.13235
 11593
END:VEVENT
END:VCALENDAR
