BEGIN:VCALENDAR
VERSION:2.0
PRODID:-//Plone.org//NONSGML plone.app.event//EN
X-WR-TIMEZONE:Europe/Rome
BEGIN:VEVENT
SUMMARY:Dialoghiamo di obesità
DTSTART;VALUE=DATE-TIME:20161015T070000Z
DTEND;VALUE=DATE-TIME:20161015T100000Z
DTSTAMP;VALUE=DATE-TIME:20260420T125543Z
UID:c72ac2f394248b83c587d8fadccf7c0d@127.0.0.1:8095
CATEGORIES:Incontro
CREATED;VALUE=DATE-TIME:20160915T145408Z
DESCRIPTION:Alimentazione\, obesità\, stili di vita\, promozione della sa
 lute\n
LAST-MODIFIED;VALUE=DATE-TIME:20161012T092733Z
LOCATION:Centro Culturale TEZE Via Berlinguer 7\, Bentivoglio 
URL:https://www.ausl.bologna.it/eventi/archivio/auslevent.2016-09-15.89977
 26264
END:VEVENT
END:VCALENDAR
