BEGIN:VCALENDAR
VERSION:2.0
PRODID:-//Plone.org//NONSGML plone.app.event//EN
X-WR-TIMEZONE:Europe/Rome
BEGIN:VEVENT
SUMMARY:La rete “invisibile” delle cure tra Ospedale e Territorio: qua
 ndo il dolore acuto diventa persistente
DTSTART;VALUE=DATE-TIME:20160924T063000Z
DTEND;VALUE=DATE-TIME:20160924T143000Z
DTSTAMP;VALUE=DATE-TIME:20260420T125543Z
UID:7fa6294f812e1db4a20ddf914731b565@127.0.0.1:8095
ATTENDEE;CN="Il Corso è a numero chiuso fino a 100 partecipanti";ROLE=REQ
 -PARTICIPANT:Il Corso è a numero chiuso fino a 100 partecipanti
CATEGORIES:corso
CREATED;VALUE=DATE-TIME:20160913T150406Z
LAST-MODIFIED;VALUE=DATE-TIME:20170116T091057Z
LOCATION:Savoia Hotel Regency Via Del Pilastro\, 2
URL:https://www.ausl.bologna.it/eventi/archivio/auslevent.2016-09-13.68410
 02401
END:VEVENT
END:VCALENDAR
