BEGIN:VCALENDAR
VERSION:2.0
PRODID:-//Plone.org//NONSGML plone.app.event//EN
X-WR-TIMEZONE:Europe/Rome
BEGIN:VEVENT
SUMMARY:Storage of red blood cells and clinical outcomes: new insights
DTSTART;VALUE=DATE-TIME:20160909T073000Z
DTEND;VALUE=DATE-TIME:20160909T153000Z
DTSTAMP;VALUE=DATE-TIME:20260420T125504Z
UID:713177462da37d13fb0dff8ef09bc388@127.0.0.1:8095
CATEGORIES:Convegno
CONTACT:06 4990 4958 - 06 4990 4989
CREATED;VALUE=DATE-TIME:20160912T092312Z
DESCRIPTION:Organized by Italian National Institute of Health–Italian Na
 tional Blood Centre
LAST-MODIFIED;VALUE=DATE-TIME:20161010T121629Z
LOCATION:Aula Pocchiari\, Viale Regina Elena\, 299 - Roma
URL:https://www.ausl.bologna.it/eventi/archivio/auslevent.2016-09-12.67613
 52125
END:VEVENT
END:VCALENDAR
