BEGIN:VCALENDAR
VERSION:2.0
PRODID:-//Plone.org//NONSGML plone.app.event//EN
X-WR-TIMEZONE:Europe/Rome
BEGIN:VEVENT
SUMMARY:ACQUA E SALUTE: responsabilità e innovazione nel monitoraggio e g
 estione delle acque destinate al consumo umano
DTSTART;VALUE=DATE-TIME:20160929T063000Z
DTEND;VALUE=DATE-TIME:20160929T150000Z
DTSTAMP;VALUE=DATE-TIME:20260420T125445Z
UID:ece3d685e9fb7dadbc1a61dab1ef2f5d@127.0.0.1:8095
ATTENDEE;CN="L’evento è rivolto a medici, biologi, assistenti sanitari,
  infermieri, dietisti, veterinari, chimici, tecnici di laboratorio, tecnic
 i della prevenzione nell’ambiente e nei luoghi di lavoro.";ROLE=REQ-PART
 ICIPANT:L’evento è rivolto a medici, biologi, assistenti sanitari, infe
 rmieri, dietisti, veterinari, chimici, tecnici di laboratorio, tecnici del
 la prevenzione nell’ambiente e nei luoghi di lavoro.
ATTENDEE;CN="È accreditato ECM per max 100 partecipanti";ROLE=REQ-PARTICI
 PANT:È accreditato ECM per max 100 partecipanti
CATEGORIES:Convegno
CONTACT:Domina Rosa \, rosa.domina@ausl.bologna.it
CREATED;VALUE=DATE-TIME:20160905T082533Z
LAST-MODIFIED;VALUE=DATE-TIME:20170117T135431Z
LOCATION:Aula Magna Regione Emilia Romagna  Viale Aldo Moro\, 30 Bologna
URL:https://www.ausl.bologna.it/eventi/archivio/auslevent.2016-09-05.72066
 02817
END:VEVENT
END:VCALENDAR
