BEGIN:VCALENDAR
VERSION:2.0
PRODID:-//Plone.org//NONSGML plone.app.event//EN
X-WR-TIMEZONE:Europe/Rome
BEGIN:VEVENT
SUMMARY:L’allattamento al seno in Regione Emilia-Romagna
DTSTART;VALUE=DATE-TIME:20160924T133000Z
DTEND;VALUE=DATE-TIME:20160924T133000Z
DTSTAMP;VALUE=DATE-TIME:20260420T125541Z
UID:c038619f9da6bc9d74918ec3898cebfd@127.0.0.1:8095
ATTENDEE;CN="Iscrizione gratuita - Il convegno è rivolto agli operatori d
 elle";ROLE=REQ-PARTICIPANT:Iscrizione gratuita - Il convegno è rivolto ag
 li operatori delle
ATTENDEE;CN="Aziende sanitarie coinvolti nel percorso nascita, alle associ
 azioni";ROLE=REQ-PARTICIPANT:Aziende sanitarie coinvolti nel percorso nasc
 ita, alle associazioni
ATTENDEE;CN="di mamme e ai centri per le famiglie che operano nel sostegno
  all’allattamento.";ROLE=REQ-PARTICIPANT:di mamme e ai centri per le fam
 iglie che operano nel sostegno all’allattamento.
CATEGORIES:Convegno
CONTACT:Direzione Generale Regione Emilia-Romagna \, Tel. 051 527 7315
CREATED;VALUE=DATE-TIME:20160905T134433Z
DESCRIPTION:Convegno regionale \n\n\n\n
LAST-MODIFIED;VALUE=DATE-TIME:20170116T091051Z
LOCATION:Sala 20 maggio 2012 - Terza Torre\, viale della Fiera 8 - Bologna
  
URL:https://www.ausl.bologna.it/eventi/archivio/auslevent.2016-09-05.09992
 43936
END:VEVENT
END:VCALENDAR
