BEGIN:VCALENDAR
VERSION:2.0
PRODID:-//Plone.org//NONSGML plone.app.event//EN
X-WR-TIMEZONE:Europe/Rome
BEGIN:VEVENT
SUMMARY:Gli accessi vascolari” I Edizione 2016
DTSTART;VALUE=DATE-TIME:20161007T113000Z
DTEND;VALUE=DATE-TIME:20161007T163000Z
DTSTAMP;VALUE=DATE-TIME:20260420T125507Z
UID:aecad44263b1f321083e6788f2748714@127.0.0.1:8095
CATEGORIES:Seminario
CREATED;VALUE=DATE-TIME:20160902T141832Z
DESCRIPTION:IPASVI - Corso di formazione continua ECM per Infermieri e Inf
 ermieri Pediatrici\n
LAST-MODIFIED;VALUE=DATE-TIME:20161010T121626Z
LOCATION:Aula formazione del Collegio IPASVI di Bologna
URL:https://www.ausl.bologna.it/eventi/archivio/auslevent.2016-09-02.57929
 18524
END:VEVENT
END:VCALENDAR
