BEGIN:VCALENDAR
VERSION:2.0
PRODID:-//Plone.org//NONSGML plone.app.event//EN
X-WR-TIMEZONE:Europe/Rome
BEGIN:VEVENT
SUMMARY:Festa del volontariato Volontassociate
DTSTART;VALUE=DATE-TIME:20160917T220000Z
DTEND;VALUE=DATE-TIME:20160917T220000Z
DTSTAMP;VALUE=DATE-TIME:20260420T125355Z
UID:e8d224efc0e2e73c3567635743f664c3@127.0.0.1:8095
CATEGORIES:Festa
CREATED;VALUE=DATE-TIME:20160831T140249Z
LAST-MODIFIED;VALUE=DATE-TIME:20161010T121624Z
LOCATION:Giardini Margherita - Bologna 
URL:https://www.ausl.bologna.it/eventi/archivio/auslevent.2016-08-31.94510
 51510
END:VEVENT
END:VCALENDAR
