BEGIN:VCALENDAR
VERSION:2.0
PRODID:-//Plone.org//NONSGML plone.app.event//EN
X-WR-TIMEZONE:Europe/Rome
BEGIN:VEVENT
SUMMARY:Il corpo e l'anima: espressività e movimento nelle varie marginal
 ità
DTSTART;VALUE=DATE-TIME:20161005T120000Z
DTEND;VALUE=DATE-TIME:20161005T150000Z
DTSTAMP;VALUE=DATE-TIME:20260422T103537Z
UID:adbb44ea91cdb58558d2a35dbb564a5b@127.0.0.1:8095
CATEGORIES:Convegno
CREATED;VALUE=DATE-TIME:20160826T140842Z
DESCRIPTION:Convegno di inaugurazione del nuovo Anno Accademico del Dipart
 imento di Scienze per la Qualità della Vita dell'Università di Bologna
LAST-MODIFIED;VALUE=DATE-TIME:20161010T121622Z
LOCATION:Aula Magna del Campus\, Via Angherà\, 22 - Rimini 
URL:https://www.ausl.bologna.it/eventi/archivio/auslevent.2016-08-26.24719
 14044
END:VEVENT
END:VCALENDAR
