BEGIN:VCALENDAR
VERSION:2.0
PRODID:-//Plone.org//NONSGML plone.app.event//EN
X-WR-TIMEZONE:Europe/Rome
BEGIN:VEVENT
SUMMARY:Il ritorno al lavoro delle donne trattate per tumore al seno: qual
 i difficoltà e come facilitare il reinserimento
DTSTART;VALUE=DATE-TIME:20161125T073000Z
DTEND;VALUE=DATE-TIME:20161125T130000Z
DTSTAMP;VALUE=DATE-TIME:20260420T125505Z
UID:05c7007a969d4e005aef908aad522810@127.0.0.1:8095
ATTENDEE;CN="L’iniziativa è rivolta ai medici competenti della provinci
 a di Bologna e a medici e assistenti sanitari delle U.O. di Prevenzione e 
 Sicurezza Ambienti di Lavoro del Dipartimento di Sanità Pubblica.";ROLE=R
 EQ-PARTICIPANT:L’iniziativa è rivolta ai medici competenti della provin
 cia di Bologna e a medici e assistenti sanitari delle U.O. di Prevenzione 
 e Sicurezza Ambienti di Lavoro del Dipartimento di Sanità Pubblica.
ATTENDEE;CN="E’stato richiesto l’accreditamento ECM";ROLE=REQ-PARTICIP
 ANT:E’stato richiesto l’accreditamento ECM
CATEGORIES:Convegno
CONTACT:Domina Rosa - Guidetti Daniela\, rosa.domina@ausl.bologna.it
CREATED;VALUE=DATE-TIME:20160824T081033Z
LAST-MODIFIED;VALUE=DATE-TIME:20161110T115419Z
LOCATION:Relais Bellaria  Via Altura\, 11bis Bologna
URL:https://www.ausl.bologna.it/eventi/archivio/auslevent.2016-08-24.06225
 90717
END:VEVENT
END:VCALENDAR
