BEGIN:VCALENDAR
VERSION:2.0
PRODID:-//Plone.org//NONSGML plone.app.event//EN
X-WR-TIMEZONE:Europe/Rome
BEGIN:VEVENT
SUMMARY:Highlights in Endocrine Pathology 
DTSTART;VALUE=DATE-TIME:20161005T070000Z
DTEND;VALUE=DATE-TIME:20161005T160000Z
DTSTAMP;VALUE=DATE-TIME:20260422T120753Z
UID:f96738dae8194384a5eadf11e3f55e08@127.0.0.1:8095
CATEGORIES:Convegno
CONTACT:051 6225008
CREATED;VALUE=DATE-TIME:20160823T132050Z
DESCRIPTION:Convegno 
LAST-MODIFIED;VALUE=DATE-TIME:20161010T121621Z
LOCATION:Aula Magna Padiglione Tinozzi - Ospedale Bellaria Via Altura 3 Bo
 logna
URL:https://www.ausl.bologna.it/eventi/archivio/auslevent.2016-08-23.13431
 02802
END:VEVENT
END:VCALENDAR
