BEGIN:VCALENDAR
VERSION:2.0
PRODID:-//Plone.org//NONSGML plone.app.event//EN
X-WR-TIMEZONE:Europe/Rome
BEGIN:VEVENT
SUMMARY:Promuovere la cultura e la metodologia dell’Auto Mutuo Aiuto per
  facilitare l’avvio di gruppi
DTSTART;VALUE=DATE-TIME:20161011T063000Z
DTEND;VALUE=DATE-TIME:20161011T150000Z
DTSTAMP;VALUE=DATE-TIME:20260420T125445Z
UID:eab4e9d6d47d85b483b013f8648f7b2f@127.0.0.1:8095
ATTENDEE;CN="Cittadini, membri di associazioni e/o di enti di volontariato
 ";ROLE=REQ-PARTICIPANT:Cittadini, membri di associazioni e/o di enti di vo
 lontariato
ATTENDEE;CN="operatori AUSL";ROLE=REQ-PARTICIPANT:operatori AUSL
ATTENDEE;CN="operatori enti Locali";ROLE=REQ-PARTICIPANT:operatori enti Lo
 cali
ATTENDEE;CN="amministratori locali.";ROLE=REQ-PARTICIPANT:amministratori l
 ocali.
CATEGORIES:Corso di formazione
CONTACT:Coordinamento A.M.A.\, gruppi.ama@ausl.bologna.it
CREATED;VALUE=DATE-TIME:20160726T101248Z
DESCRIPTION:Iniziativa formativa accreditata rivolta a operatori e cittadi
 ni
LAST-MODIFIED;VALUE=DATE-TIME:20170116T091050Z
LOCATION:Zanhotel Europa – Sala Londra via Cesare Boldrini 11\, Bologna
URL:https://www.ausl.bologna.it/eventi/archivio/auslevent.2016-07-26.51391
 18570
END:VEVENT
END:VCALENDAR
