BEGIN:VCALENDAR
VERSION:2.0
PRODID:-//Plone.org//NONSGML plone.app.event//EN
X-WR-TIMEZONE:Europe/Rome
BEGIN:VEVENT
SUMMARY:Datti una Mossa! alla Race for the Cure
DTSTART;VALUE=DATE-TIME:20160923T060000Z
DTEND;VALUE=DATE-TIME:20160925T155500Z
DTSTAMP;VALUE=DATE-TIME:20260420T112128Z
UID:04102a00ba87f6fa648f3e008890642c@127.0.0.1:8095
CATEGORIES:Calendario di eventi
CREATED;VALUE=DATE-TIME:20160714T123742Z
DESCRIPTION:I 10 anni di Datti una Mossa ! e della Race for the Cure
LAST-MODIFIED;VALUE=DATE-TIME:20161010T121612Z
LOCATION:Giardini Margherita\, Bologna
URL:https://www.ausl.bologna.it/eventi/archivio/auslevent.2016-07-14.69162
 37463
END:VEVENT
END:VCALENDAR
