BEGIN:VCALENDAR
VERSION:2.0
PRODID:-//Plone.org//NONSGML plone.app.event//EN
X-WR-TIMEZONE:Europe/Rome
BEGIN:VEVENT
SUMMARY:Inaugurazione del  Polo Cardio-Toraco-Vascolare e Laboratorio Unic
 o Metropolitano 1 Agosto 2016 - Incontro con il Ministro della Salute Beat
 rice Lorenzin - Aula Magna dell'Ospedale Maggiore di Bologna\, ore 18
DTSTART;VALUE=DATE-TIME:20160801T160000Z
DTEND;VALUE=DATE-TIME:20160801T170000Z
DTSTAMP;VALUE=DATE-TIME:20260422T103536Z
UID:efa8ba18c02227f388bf06b36eeb3eb4@127.0.0.1:8095
CREATED;VALUE=DATE-TIME:20160714T134005Z
LAST-MODIFIED;VALUE=DATE-TIME:20161010T121614Z
LOCATION:Bologna\, Ospedale Maggiore
URL:https://www.ausl.bologna.it/eventi/archivio/auslevent.2016-07-14.48190
 49347
END:VEVENT
END:VCALENDAR
