BEGIN:VCALENDAR
VERSION:2.0
PRODID:-//Plone.org//NONSGML plone.app.event//EN
X-WR-TIMEZONE:Europe/Rome
BEGIN:VEVENT
SUMMARY:Il Piano Regionale della Prevenzione e il Progetto di Promozione d
 ella Salute nei Luoghi di Lavoro
DTSTART;VALUE=DATE-TIME:20160909T120000Z
DTEND;VALUE=DATE-TIME:20160909T160000Z
DTSTAMP;VALUE=DATE-TIME:20260422T120753Z
UID:d550f2cb358f481f70a5f3f64860b19f@127.0.0.1:8095
ATTENDEE;CN="Medici Competenti della Provincia di Bologna;";ROLE=REQ-PARTI
 CIPANT:Medici Competenti della Provincia di Bologna;
ATTENDEE;CN="Medici e Assistenti Sanitari SPSAL.";ROLE=REQ-PARTICIPANT:Med
 ici e Assistenti Sanitari SPSAL.
CATEGORIES:Aggiornamento
CONTACT:Domina Rosa - Guidetti Daniela\, rosa.domina@ausl.bologna.it
CREATED;VALUE=DATE-TIME:20160713T090331Z
LAST-MODIFIED;VALUE=DATE-TIME:20160907T071442Z
LOCATION:Bologna
URL:https://www.ausl.bologna.it/eventi/archivio/auslevent.2016-07-13.35112
 29220
END:VEVENT
END:VCALENDAR
