BEGIN:VCALENDAR
VERSION:2.0
PRODID:-//Plone.org//NONSGML plone.app.event//EN
X-WR-TIMEZONE:Europe/Rome
BEGIN:VEVENT
SUMMARY:Esami\, farmaci e prescrizioni
DTSTART;VALUE=DATE-TIME:20161004T090000Z
DTEND;VALUE=DATE-TIME:20161004T150000Z
DTSTAMP;VALUE=DATE-TIME:20260420T125352Z
UID:2461bd9408313fd743477fd0b62b1674@127.0.0.1:8095
CATEGORIES:Convegno
CREATED;VALUE=DATE-TIME:20160705T124354Z
DESCRIPTION:Presentazione e discussione risultati dell’indagine IRCCS Ma
 rio Negri-Altroconsumo
LAST-MODIFIED;VALUE=DATE-TIME:20161010T121610Z
LOCATION:Milano\, Istituto Mario Negri\, Aula Alessandro e Noemi Guasti 
 – Via G. La Masa 19
URL:https://www.ausl.bologna.it/eventi/archivio/auslevent.2016-07-05.47408
 05033
END:VEVENT
END:VCALENDAR
