BEGIN:VCALENDAR
VERSION:2.0
PRODID:-//Plone.org//NONSGML plone.app.event//EN
X-WR-TIMEZONE:Europe/Rome
BEGIN:VEVENT
SUMMARY:Week surgery e chirurgia dei laparoceli
DTSTART;VALUE=DATE-TIME:20160624T063000Z
DTEND;VALUE=DATE-TIME:20160624T170000Z
DTSTAMP;VALUE=DATE-TIME:20260420T131847Z
UID:6ef80e814fd3b69c681c6a1ff23ca038@127.0.0.1:8095
CATEGORIES:corso
CONTACT:051/4841310 \, abianconi@duecipromotion.com
CREATED;VALUE=DATE-TIME:20160622T110902Z
DESCRIPTION:Corso 
LAST-MODIFIED;VALUE=DATE-TIME:20160714T130134Z
LOCATION:Budrio - Teatro consorziale - Via Giuseppe Garibaldi\, 35 
URL:https://www.ausl.bologna.it/eventi/archivio/auslevent.2016-06-22.84698
 39146
END:VEVENT
END:VCALENDAR
