BEGIN:VCALENDAR
VERSION:2.0
PRODID:-//Plone.org//NONSGML plone.app.event//EN
X-WR-TIMEZONE:Europe/Rome
BEGIN:VEVENT
SUMMARY:Ascolto\, sento e rido 
DTSTART;VALUE=DATE-TIME:20160621T183000Z
DTEND;VALUE=DATE-TIME:20160621T203000Z
DTSTAMP;VALUE=DATE-TIME:20260420T131932Z
UID:9163de4af6053da6fb76093f81e1facd@127.0.0.1:8095
CATEGORIES:Invito
CREATED;VALUE=DATE-TIME:20160620T140808Z
DESCRIPTION:Dove l'incontro diventa armonia 
LAST-MODIFIED;VALUE=DATE-TIME:20160714T130132Z
LOCATION:Ex presidio Roncati Via Sant'Isaia\, 90 - Bologna  
URL:https://www.ausl.bologna.it/eventi/archivio/auslevent.2016-06-20.43986
 26911
END:VEVENT
END:VCALENDAR
