BEGIN:VCALENDAR
VERSION:2.0
PRODID:-//Plone.org//NONSGML plone.app.event//EN
X-WR-TIMEZONE:Europe/Rome
BEGIN:VEVENT
SUMMARY:Verifica di Efficacia dei Sistemi di Aspirazione Localizzata negli
  Ambienti di Lavoro
DTSTART;VALUE=DATE-TIME:20160620T063000Z
DTEND;VALUE=DATE-TIME:20160621T143000Z
DTSTAMP;VALUE=DATE-TIME:20260420T131850Z
UID:ed227b6836d40ec82a54ba1dc8a99ba7@127.0.0.1:8095
ATTENDEE;CN="Il corso è rivolto a 20 Tecnici della prevenzione,ingegneri 
 e laureati chimici delle UOPSAL delle Aziende USL di Bologna e di Imola.";
 ROLE=REQ-PARTICIPANT:Il corso è rivolto a 20 Tecnici della prevenzione,in
 gegneri e laureati chimici delle UOPSAL delle Aziende USL di Bologna e di 
 Imola.
ATTENDEE;CN="E’ stato richiesto l’accreditamento ECM.";ROLE=REQ-PARTIC
 IPANT:E’ stato richiesto l’accreditamento ECM.
CATEGORIES:Corso di aggiornamento
CONTACT:Rossella Zappoli \, 051-4966365\, rossella.zappoli@ausl.bologna.it
CREATED;VALUE=DATE-TIME:20160617T090837Z
DESCRIPTION:20 e 21 Giugno 2016 - Sala Rossa Azienda USL di Bologna\nVia G
 ramsci 12 - Bologna\n\n16 dicembre 2016 - Sala Riunioni Pad. Tinozzi Osped
 ale Bellaria\nVia Altura 5 - Bologna\n
LAST-MODIFIED;VALUE=DATE-TIME:20160714T130131Z
URL:https://www.ausl.bologna.it/eventi/archivio/auslevent.2016-06-17.00877
 79455
END:VEVENT
END:VCALENDAR
