BEGIN:VCALENDAR
VERSION:2.0
PRODID:-//Plone.org//NONSGML plone.app.event//EN
X-WR-TIMEZONE:Europe/Rome
BEGIN:VEVENT
SUMMARY:TRAUMA UPDATE AND ORGANIZATION.2
DTSTART;VALUE=DATE-TIME:20160617T120000Z
DTEND;VALUE=DATE-TIME:20160617T160000Z
DTSTAMP;VALUE=DATE-TIME:20260420T132033Z
UID:8a7f681e1c54523027e9a4d5c268b7c6@127.0.0.1:8095
CATEGORIES:Convegno
CONTACT:Noemacongressi\, 051/230385 
CREATED;VALUE=DATE-TIME:20160616T141911Z
DESCRIPTION:Monitoraggio e ventilazione nel Trauma toracico: le conclusion
 i dopo la Consensus di Bologna 
LAST-MODIFIED;VALUE=DATE-TIME:20160714T130130Z
LOCATION:Bologna - Ospedale Maggiore\, Aula Magna 
URL:https://www.ausl.bologna.it/eventi/archivio/auslevent.2016-06-16.32621
 45983
END:VEVENT
END:VCALENDAR
