BEGIN:VCALENDAR
VERSION:2.0
PRODID:-//Plone.org//NONSGML plone.app.event//EN
X-WR-TIMEZONE:Europe/Rome
BEGIN:VEVENT
SUMMARY:La Casa della salute: esperienze e punti di vista. Percorsi di inn
 ovazione nell’assistenza primaria
DTSTART;VALUE=DATE-TIME:20160617T070000Z
DTEND;VALUE=DATE-TIME:20160617T143000Z
DTSTAMP;VALUE=DATE-TIME:20260420T131930Z
UID:cf4cc3668db73af76597eb59ffd465b5@127.0.0.1:8095
CATEGORIES:Convegno
CREATED;VALUE=DATE-TIME:20160616T100538Z
DESCRIPTION:Convegno nazionale\n
LAST-MODIFIED;VALUE=DATE-TIME:20160714T130129Z
LOCATION:Bologna - Sala 20 maggio 2012\, viale della Fiera 8
URL:https://www.ausl.bologna.it/eventi/archivio/auslevent.2016-06-16.25264
 29732
END:VEVENT
END:VCALENDAR
