BEGIN:VCALENDAR
VERSION:2.0
PRODID:-//Plone.org//NONSGML plone.app.event//EN
X-WR-TIMEZONE:Europe/Rome
BEGIN:VEVENT
SUMMARY:"Pellegrini\, viaggiatori\, viandanti"  
DTSTART;VALUE=DATE-TIME:20160621T160000Z
DTEND;VALUE=DATE-TIME:20160621T180000Z
DTSTAMP;VALUE=DATE-TIME:20260420T131846Z
UID:fac5049bdb4c2af4d8135a9777b51c5d@127.0.0.1:8095
CATEGORIES:Presentazione volume
CREATED;VALUE=DATE-TIME:20160613T135258Z
DESCRIPTION:Presentazione del catalogo dell'omonima mostra di Sergio Zanni
  
LAST-MODIFIED;VALUE=DATE-TIME:20160714T130128Z
LOCATION:Complesso Monumentale di Santa Maria della Vita\, Oratorio dei Ba
 ttuti - Via Clavature\, 8 Bologna
URL:https://www.ausl.bologna.it/eventi/archivio/auslevent.2016-06-13.45286
 70480
END:VEVENT
END:VCALENDAR
