BEGIN:VCALENDAR
VERSION:2.0
PRODID:-//Plone.org//NONSGML plone.app.event//EN
X-WR-TIMEZONE:Europe/Rome
BEGIN:VEVENT
SUMMARY:Farmaci\, usali bene
DTSTART;VALUE=DATE-TIME:20160624T150000Z
DTEND;VALUE=DATE-TIME:20160624T170000Z
DTSTAMP;VALUE=DATE-TIME:20260420T131839Z
UID:f3429adc6e8dac73e973c8a00e708305@127.0.0.1:8095
CATEGORIES:Incontro pubblico
CONTACT:URP Distretto di San Lazzaro di Savena\, 051 6224289
CREATED;VALUE=DATE-TIME:20160608T100841Z
DESCRIPTION:Incontro rivolto ai cittadini per un uso più consapevole e re
 sponsabile dei farmaci
LAST-MODIFIED;VALUE=DATE-TIME:20160714T130127Z
LOCATION:San Lazzaro di Savena\, Centro Sociale Malpensa
URL:https://www.ausl.bologna.it/eventi/archivio/auslevent.2016-06-08.92022
 07564
END:VEVENT
END:VCALENDAR
