BEGIN:VCALENDAR
VERSION:2.0
PRODID:-//Plone.org//NONSGML plone.app.event//EN
X-WR-TIMEZONE:Europe/Rome
BEGIN:VEVENT
SUMMARY:Incontri per la salute: la prevenzione cardiovascolare
DTSTART;VALUE=DATE-TIME:20160615T150000Z
DTEND;VALUE=DATE-TIME:20160615T170000Z
DTSTAMP;VALUE=DATE-TIME:20260420T131845Z
UID:b5447b6bba1d6e4c4932e2a107d79de9@127.0.0.1:8095
CATEGORIES:Incontro pubblico
CONTACT:Distretto di San Lazzaro di Savena\, 051 6224363
CREATED;VALUE=DATE-TIME:20160608T094307Z
DESCRIPTION:Incontro per i cittadini realizzato dal Distretto di San Lazza
 ro di Savena in collaborazione con i Comuni di San Lazzaro di Savena e Ozz
 ano dell'Emilia
LAST-MODIFIED;VALUE=DATE-TIME:20160714T130126Z
LOCATION:San Lazzaro di Savena\, Sala 77 ARCI
URL:https://www.ausl.bologna.it/eventi/archivio/auslevent.2016-06-08.22731
 37672
END:VEVENT
END:VCALENDAR
