BEGIN:VCALENDAR
VERSION:2.0
PRODID:-//Plone.org//NONSGML plone.app.event//EN
X-WR-TIMEZONE:Europe/Rome
BEGIN:VEVENT
SUMMARY:Intitolazione del Giardino dei Donatori di Sangue 
DTSTART;VALUE=DATE-TIME:20160611T083000Z
DTEND;VALUE=DATE-TIME:20160611T103000Z
DTSTAMP;VALUE=DATE-TIME:20260420T131940Z
UID:baf17627556cd7b6645bcf2481bfee3a@127.0.0.1:8095
CATEGORIES:Intitolazione
CREATED;VALUE=DATE-TIME:20160603T081627Z
LAST-MODIFIED;VALUE=DATE-TIME:20160714T132246Z
LOCATION:Budrio\, Ospedale
URL:https://www.ausl.bologna.it/eventi/archivio/auslevent.2016-06-03.57971
 76418
END:VEVENT
END:VCALENDAR
