BEGIN:VCALENDAR
VERSION:2.0
PRODID:-//Plone.org//NONSGML plone.app.event//EN
X-WR-TIMEZONE:Europe/Rome
BEGIN:VEVENT
SUMMARY:Gastropack: la medicina di relazione come prospettiva per il futur
 o
DTSTART;VALUE=DATE-TIME:20160611T063000Z
DTEND;VALUE=DATE-TIME:20160611T150000Z
DTSTAMP;VALUE=DATE-TIME:20260420T131843Z
UID:e06bd47cfe10a1f8992a61925d0a6cd7@127.0.0.1:8095
ATTENDEE;CN="Medici, farmacisti, fisioterapisti, infermieri";ROLE=REQ-PART
 ICIPANT:Medici, farmacisti, fisioterapisti, infermieri
CATEGORIES:Convegno
CONTACT:Project & Communication\, 051 273168\, ecm@projcom.it
CREATED;VALUE=DATE-TIME:20160601T125712Z
DESCRIPTION:Corso ECM su un modello di accesso alle cure specialistiche ga
 stroenterologiche basato sulla relazione diretta tra il Medico di Medicina
  Generale e lo Specialista Gastroenterologo 
LAST-MODIFIED;VALUE=DATE-TIME:20160714T130124Z
LOCATION:Porretta Terme\, Hotel Helvetia
URL:https://www.ausl.bologna.it/eventi/archivio/auslevent.2016-06-01.47063
 46802
END:VEVENT
END:VCALENDAR
