BEGIN:VCALENDAR
VERSION:2.0
PRODID:-//Plone.org//NONSGML plone.app.event//EN
X-WR-TIMEZONE:Europe/Rome
BEGIN:VEVENT
SUMMARY:BUONE PRATICHE per la SICUREZZA DELLE CURE
DTSTART;VALUE=DATE-TIME:20160613T070000Z
DTEND;VALUE=DATE-TIME:20160613T150000Z
DTSTAMP;VALUE=DATE-TIME:20260420T131940Z
UID:775e5075d9428228f6088cd7044af195@127.0.0.1:8095
CATEGORIES:Giornata
CREATED;VALUE=DATE-TIME:20160530T144946Z
DESCRIPTION:1^ giornata Regionale 
LAST-MODIFIED;VALUE=DATE-TIME:20160714T130122Z
LOCATION:Viale della Fiera\, 8 - Bologna\, Sala 20 maggio 2012 (ex sala A 
 conferenze) piano ammezzato
URL:https://www.ausl.bologna.it/eventi/archivio/auslevent.2016-05-30.35898
 26234
END:VEVENT
END:VCALENDAR
